BEGIN:VCALENDAR
VERSION:2.0
PRODID:-//https://www.test.mtv-paf.de///NONSGML kigkonsult.se iCalcreator 2.10.15//
METHOD:PUBLISH
BEGIN:VEVENT
UID:20260422T135151CEST-9099b75upV@https://www.test.mtv-paf.de/
DTSTAMP:20260422T115151Z
DESCRIPTION: https://www.test.mtv-paf.de/index.php/termine2/ereignis/2-tenn
 is-saisoneroeffnung
DTSTART:20260418T133854Z
DTEND:20260418T203854Z
LOCATION:Waldspielplatz\, 85276 Hettenshausen ()
SUMMARY:Tennis Saisoneröffnung
URL:https://www.test.mtv-paf.de/index.php/termine2/ereignis/2-tennis-saison
 eroeffnung
END:VEVENT
END:VCALENDAR
